BEGIN:VCALENDAR
VERSION:2.0
PRODID:-//ARC - ECPv4.4.2//NONSGML v1.0//EN
CALSCALE:GREGORIAN
METHOD:PUBLISH
X-WR-CALNAME:ARC
X-ORIGINAL-URL:http://www.apoptosis.ie
X-WR-CALDESC:Events for ARC
BEGIN:VEVENT
DTSTART;VALUE=DATE:20170327
DTEND;VALUE=DATE:20170327
DTSTAMP:20171030T073222
CREATED:20170109T151659Z
LAST-MODIFIED:20170111T113231Z
UID:1759-1490572800-1490659199@www.apoptosis.ie
SUMMARY:TRAINERS Plenary meeting
DESCRIPTION:http://www.train-ers.eu/next-network-meeting-training-event-barcelona-march-2017/
URL:http://www.apoptosis.ie/event/trainers-plenary-meeting/
LOCATION:Barcelona\, Spain
CATEGORIES:Meetings & Seminars
END:VEVENT
END:VCALENDAR