BEGIN:VCALENDAR
VERSION:2.0
PRODID:-//ARC - ECPv4.4.2//NONSGML v1.0//EN
CALSCALE:GREGORIAN
METHOD:PUBLISH
X-WR-CALNAME:ARC
X-ORIGINAL-URL:http://www.apoptosis.ie
X-WR-CALDESC:Events for ARC
BEGIN:VEVENT
DTSTART;VALUE=DATE:20170328
DTEND;VALUE=DATE:20170329
DTSTAMP:20171030T073234
CREATED:20170109T151827Z
LAST-MODIFIED:20170307T144642Z
UID:1762-1490659200-1490831999@www.apoptosis.ie
SUMMARY:TRAINERS course on "Presentation and communication skills and social media exploitations"
DESCRIPTION:
URL:http://www.apoptosis.ie/event/trainers-course-presentation-communication-skills-ans-social-media-exploitations/
LOCATION:Barcelona\, Spain
CATEGORIES:Meetings & Seminars
END:VEVENT
END:VCALENDAR