BEGIN:VCALENDAR
VERSION:2.0
PRODID:-//ARC - ECPv4.4.2//NONSGML v1.0//EN
CALSCALE:GREGORIAN
METHOD:PUBLISH
X-WR-CALNAME:ARC
X-ORIGINAL-URL:http://www.apoptosis.ie
X-WR-CALDESC:Events for ARC
BEGIN:VEVENT
DTSTART;VALUE=DATE:20170609
DTEND;VALUE=DATE:20170609
DTSTAMP:20171030T073254
CREATED:20170109T152252Z
LAST-MODIFIED:20170111T112559Z
UID:1764-1496966400-1497052799@www.apoptosis.ie
SUMMARY:Blood Cancer Network Ireland symposium
DESCRIPTION:“Advances in clinical and translational blood cancer research”
URL:http://www.apoptosis.ie/event/blood-cancer-network-ireland-symposium/
LOCATION:Institute for molecular medicine\, St James Hospital\, Dublin\, Ireland
CATEGORIES:Meetings & Seminars
END:VEVENT
END:VCALENDAR